BEGIN:VCALENDAR
VERSION:2.0
PRODID:-//ChamberMaster//Event Calendar 2.0//EN
METHOD:PUBLISH
X-PUBLISHED-TTL:P3D
REFRESH-INTERVAL:P3D
CALSCALE:GREGORIAN
BEGIN:VEVENT
DTSTART:20130319T020000Z
DTEND:20130319T040000Z
X-MICROSOFT-CDO-ALLDAYEVENT:FALSE
SUMMARY:100 Years Later: Abigail Scott Duniway
DESCRIPTION:Judy Allen\, resident of Wallowa County and native Oregonian \, will share her research into the absorbing life of Abigail Scott Duniway whose devotion to her family and the concerns of women\, along with her writing and independent thinking\, led to her becoming the force behind the women's suffrage moviement.
X-ALT-DESC;FMTTYPE=text/html:Judy Allen\, resident of Wallowa County and native Oregonian \, will share her research into the absorbing life of Abigail Scott Duniway whose devotion to her family and the concerns of women\, along with her writing and independent thinking\, led to her becoming the force behind the women&#39\;s suffrage moviement.
LOCATION:Fishtrap House\, 400 E. Grant St.\, Enterprise
UID:e.1631.2959
SEQUENCE:3
DTSTAMP:20260419T193111Z
URL:http://wallowacountychamber.sampleorg.com/events/details/100-years-later-abigail-scott-duniway-03-18-2013-2959
END:VEVENT

END:VCALENDAR
