BEGIN:VCALENDAR
VERSION:2.0
PRODID:-//ChamberMaster//Event Calendar 2.0//EN
METHOD:PUBLISH
X-PUBLISHED-TTL:P3D
REFRESH-INTERVAL:P3D
CALSCALE:GREGORIAN
BEGIN:VEVENT
DTSTART:20130724T020000Z
DTEND:20130724T040000Z
X-MICROSOFT-CDO-ALLDAYEVENT:FALSE
SUMMARY:1st Annual Cowboy Poetry Gathering
DESCRIPTION:Celebrate and evening of Cowboy Poetry and music from the Sons of the Oregon Trail as we welcome artists from the larger touring show\, Romancing the West. Butch Martin will MC the gathering\, which will feature local poets and performers.
X-ALT-DESC;FMTTYPE=text/html:<p>\n	Celebrate and evening of Cowboy Poetry and music from the Sons of the Oregon Trail as we welcome artists from the larger touring show\, Romancing the West. Butch Martin will MC the gathering\, which will feature local poets and performers.</p>\n
LOCATION:Josephy Center for Arts and Culture\, 403 N. Main St.\, Joseph
UID:e.1631.4365
SEQUENCE:3
DTSTAMP:20260419T134927Z
URL:http://wallowacountychamber.sampleorg.com/events/details/1st-annual-cowboy-poetry-gathering-07-23-2013-4365
END:VEVENT

END:VCALENDAR
