BEGIN:VCALENDAR
VERSION:2.0
PRODID:-//ChamberMaster//Event Calendar 2.0//EN
METHOD:PUBLISH
X-PUBLISHED-TTL:P3D
REFRESH-INTERVAL:P3D
CALSCALE:GREGORIAN
BEGIN:VEVENT
DTSTART:20130426T010000Z
DTEND:20130429T040000Z
X-MICROSOFT-CDO-ALLDAYEVENT:FALSE
SUMMARY:2nd Annual Ruby Peak Shorts Film Festival
DESCRIPTION:The Ruby Peak Shorts Film Festival is a wild and sleepless weekend in which you and your team have a blast making a movie.  All writiing\, shooting\, editing\, and scoring must be completed in just 48 hours. \n\n\n\nOn Thursday night\, you are assigned a character\, a prop\, a line of dialogue and a genre\, that must be included in your movie.  48 hours late\,  you must submit your 3 to 8 minute film.  No special equipment\, use your phone\, a video camera or anything else that works\, Next? your masterpiece will show on the big screen of the OK Theater on Sunday afternoon.\n\n\n\nSo come Thursday night with your team (family\, friends\, fellow artists) at 6:00 pm. Join us for pizza and get your team assignments.
X-ALT-DESC;FMTTYPE=text/html:The Ruby Peak Shorts Film Festival is a wild and sleepless weekend in which you and your team have a blast making a movie.&nbsp\; All writiing\, shooting\, editing\, and scoring must be completed in just 48 hours.&nbsp\;<br />\n<br />\nOn Thursday night\, you are assigned a character\, a prop\, a line of dialogue and a genre\, that must be included in your movie.&nbsp\; 48 hours late\,&nbsp\; you must submit your 3 to 8 minute film.&nbsp\; No special equipment\, use your phone\, a video camera or anything else that works\, Next? your masterpiece will show on the big screen of the OK Theater on Sunday afternoon.<br />\n<br />\nSo come Thursday night with your team (family\, friends\, fellow artists) at 6:00 pm. Join us for pizza and get your team assignments.
LOCATION:First meeting and Assignments at Lear's Main St. Grill in Enterprise\, April 26\, 2013
UID:e.1631.3710
SEQUENCE:3
DTSTAMP:20260419T180949Z
URL:http://wallowacountychamber.sampleorg.com/events/details/2nd-annual-ruby-peak-shorts-film-festival-04-25-2013-3710
END:VEVENT

END:VCALENDAR
