BEGIN:VCALENDAR
VERSION:2.0
PRODID:-//ChamberMaster//Event Calendar 2.0//EN
METHOD:PUBLISH
X-PUBLISHED-TTL:P3D
REFRESH-INTERVAL:P3D
CALSCALE:GREGORIAN
BEGIN:VEVENT
DTSTART:20130310T230000Z
DTEND:20130311T020000Z
X-MICROSOFT-CDO-ALLDAYEVENT:FALSE
SUMMARY:2nd Sunday Open Mic & Potluck
DESCRIPTION:All Musicians are welcome.  Bring your family\, friends\, alight dish or snacks and your favorite beverage to enjoy great music in an informal setting.
X-ALT-DESC;FMTTYPE=text/html:All Musicians are welcome.&nbsp\; Bring your family\, friends\, alight dish or snacks and your favorite beverage to enjoy great music in an informal setting.
LOCATION:Josephy Center for Arts & Culture\, 403 N. Main St.\, Joseph
UID:e.1631.2381
SEQUENCE:3
DTSTAMP:20260419T193110Z
URL:http://wallowacountychamber.sampleorg.com/events/details/2nd-sunday-open-mic-potluck-03-10-2013-2381
END:VEVENT

END:VCALENDAR
