BEGIN:VCALENDAR
VERSION:2.0
PRODID:-//ChamberMaster//Event Calendar 2.0//EN
METHOD:PUBLISH
X-PUBLISHED-TTL:P3D
REFRESH-INTERVAL:P3D
CALSCALE:GREGORIAN
BEGIN:VEVENT
DTSTART;VALUE=DATE:20130531
DTEND;VALUE=DATE:20130603
TRANSP:TRANSPARENT
X-MICROSOFT-CDO-ALLDAYEVENT:TRUE
SUMMARY:31st Annual Wallowa Valley Festival of the Arts
DESCRIPTION:If you're looking for some of the best juried art in the Pacific Northwest\, come to Wallowa Valley's famous Festival of Arts. This three day celebration features local\, regional and national artists working in all types of media\, with over 125 artists. Enterprise\, along Hells Canyon Scenic Byway.
X-ALT-DESC;FMTTYPE=text/html:If you&#39\;re looking for some of the best juried art in the Pacific Northwest\, come to Wallowa Valley&#39\;s famous Festival of Arts. This three day celebration features local\, regional and national artists working in all types of media\, with over 125 artists. Enterprise\, along Hells Canyon Scenic Byway.
LOCATION:Joseph Community Center\, Joseph
UID:e.1631.53
SEQUENCE:3
DTSTAMP:20260419T151148Z
URL:http://wallowacountychamber.sampleorg.com/events/details/31st-annual-wallowa-valley-festival-of-the-arts-05-31-2013-53
END:VEVENT

END:VCALENDAR
