BEGIN:VCALENDAR
VERSION:2.0
PRODID:-//ChamberMaster//Event Calendar 2.0//EN
METHOD:PUBLISH
X-PUBLISHED-TTL:P3D
REFRESH-INTERVAL:P3D
CALSCALE:GREGORIAN
BEGIN:VEVENT
DTSTART:20130320T160000Z
DTEND:20130320T230000Z
X-MICROSOFT-CDO-ALLDAYEVENT:FALSE
SUMMARY:AARP Driver Safety Class
DESCRIPTION:AARP Driver Safety Class (may reduce your insurance premium) must pre-register by  calling Community Connection\, 541-426-3840
X-ALT-DESC;FMTTYPE=text/html:AARP Driver Safety Class (may reduce your insurance premium) must pre-register by&nbsp\; calling Community Connection\, 541-426-3840
LOCATION:Community Connection\, 702 NW 1st St.\, Enterprise
UID:e.1631.2387
SEQUENCE:3
DTSTAMP:20260419T192444Z
URL:http://wallowacountychamber.sampleorg.com/events/details/aarp-driver-safety-class-03-20-2013-2387
END:VEVENT

END:VCALENDAR
