BEGIN:VCALENDAR
VERSION:2.0
PRODID:-//ChamberMaster//Event Calendar 2.0//EN
METHOD:PUBLISH
X-PUBLISHED-TTL:P3D
REFRESH-INTERVAL:P3D
CALSCALE:GREGORIAN
BEGIN:VEVENT
DTSTART:20130303T050000Z
DTEND:20130303T075500Z
X-MICROSOFT-CDO-ALLDAYEVENT:FALSE
SUMMARY:"ABC" Costume Party
DESCRIPTION:"ABC" (Anything But Clothes) costume party.  Cash prize for the best costume.  Live music by Homewrecker from Lewiston.
X-ALT-DESC;FMTTYPE=text/html:&quot\;ABC&quot\; (Anything But Clothes) costume party.&nbsp\; Cash prize for the best costume.&nbsp\; Live music by Homewrecker from Lewiston.&nbsp\;&nbsp\;&nbsp\;&nbsp\;
LOCATION:Stubborn Mule\, 104 S. Main\, Joseph
UID:e.1631.1836
SEQUENCE:3
DTSTAMP:20260419T193057Z
URL:http://wallowacountychamber.sampleorg.com/events/details/abc-costume-party-03-02-2013-1836
END:VEVENT

END:VCALENDAR
