BEGIN:VCALENDAR
VERSION:2.0
PRODID:-//ChamberMaster//Event Calendar 2.0//EN
METHOD:PUBLISH
X-PUBLISHED-TTL:P3D
REFRESH-INTERVAL:P3D
CALSCALE:GREGORIAN
BEGIN:VEVENT
DTSTART:20130406T160000Z
DTEND:20130406T220000Z
X-MICROSOFT-CDO-ALLDAYEVENT:FALSE
SUMMARY:ABC's of Homebuying
DESCRIPTION:Learn about homeownership and low interest loan programs before you buy a home.  Presented by Debbie Votaw\, Housing Resource Center Manager of CCNO and Di Lyn Larsen-Hill\, Family Self Sufficiency Coordinator of NEOHA.  This class is sponsored by:  community Connection of Northeast Oregon\, Inc. and Northeast Oregon Housing Authority
X-ALT-DESC;FMTTYPE=text/html:Learn about homeownership and low interest loan programs before you buy a home.&nbsp\; Presented by Debbie Votaw\, Housing Resource Center Manager of CCNO and Di Lyn Larsen-Hill\, Family Self Sufficiency Coordinator of NEOHA.&nbsp\; This class is sponsored by:&nbsp\; community Connection of Northeast Oregon\, Inc. and Northeast Oregon Housing Authority
LOCATION:Community Connection Senior Center\, 702 NW 1st St. Enterprise\, OR
UID:e.1631.2748
SEQUENCE:3
DTSTAMP:20260419T180950Z
URL:http://wallowacountychamber.sampleorg.com/events/details/abc-s-of-homebuying-04-06-2013-2748
END:VEVENT

END:VCALENDAR
