BEGIN:VCALENDAR
VERSION:2.0
PRODID:-//ChamberMaster//Event Calendar 2.0//EN
METHOD:PUBLISH
X-PUBLISHED-TTL:P3D
REFRESH-INTERVAL:P3D
CALSCALE:GREGORIAN
BEGIN:VEVENT
DTSTART:20130619T190000Z
DTEND:20130620T010000Z
X-MICROSOFT-CDO-ALLDAYEVENT:FALSE
SUMMARY:American Red Cross Blood Drive
DESCRIPTION:Donate blood to the American Red Cross.
X-ALT-DESC;FMTTYPE=text/html:Donate blood to the American Red Cross.
LOCATION:VFW Hall\, 800 N. River Street\, Enterprise
UID:e.1631.4324
SEQUENCE:3
DTSTAMP:20260419T202211Z
URL:http://wallowacountychamber.sampleorg.com/events/details/american-red-cross-blood-drive-06-19-2013-4324
END:VEVENT

END:VCALENDAR
