BEGIN:VCALENDAR
VERSION:2.0
PRODID:-//ChamberMaster//Event Calendar 2.0//EN
METHOD:PUBLISH
X-PUBLISHED-TTL:P3D
REFRESH-INTERVAL:P3D
CALSCALE:GREGORIAN
BEGIN:VEVENT
DTSTART;VALUE=DATE:20130615
DTEND;VALUE=DATE:20130617
TRANSP:TRANSPARENT
X-MICROSOFT-CDO-ALLDAYEVENT:TRUE
SUMMARY:Andy Shafer Riding Clinic
DESCRIPTION:Andy Shafer from Washington will be at Dun the Right Way Horses for a riding clinic on reining/reined cow horse.  The clinic is limited to 12 riders.
X-ALT-DESC;FMTTYPE=text/html:Andy Shafer from Washington will be at Dun the Right Way Horses for a riding clinic on reining/reined cow horse.&nbsp\; The clinic is limited to 12 riders.
LOCATION:63674 Hurricane Cr. Rd.\, Enterprise
UID:e.1631.4240
SEQUENCE:3
DTSTAMP:20260419T150528Z
URL:http://wallowacountychamber.sampleorg.com/events/details/andy-shafer-riding-clinic-06-15-2013-4240
END:VEVENT

END:VCALENDAR
