BEGIN:VCALENDAR
VERSION:2.0
PRODID:-//ChamberMaster//Event Calendar 2.0//EN
METHOD:PUBLISH
X-PUBLISHED-TTL:P3D
REFRESH-INTERVAL:P3D
CALSCALE:GREGORIAN
BEGIN:VEVENT
DTSTART:20130504T200000Z
DTEND:20130504T220000Z
X-MICROSOFT-CDO-ALLDAYEVENT:FALSE
SUMMARY:Andy Warhol Style Hand prints
DESCRIPTION:Dana Ingram will teach a class for preschoolers through first grade on makin Andy Warhol-inspired handprints
X-ALT-DESC;FMTTYPE=text/html:Dana Ingram will teach a class for preschoolers through first grade on makin Andy Warhol-inspired handprints
LOCATION:Josephy Center for Arts & Culture\, 405 N. Main St.\, Joseph
UID:e.1631.3714
SEQUENCE:3
DTSTAMP:20260419T163632Z
URL:http://wallowacountychamber.sampleorg.com/events/details/andy-warhol-style-hand-prints-05-04-2013-3714
END:VEVENT

END:VCALENDAR
