BEGIN:VCALENDAR
VERSION:2.0
PRODID:-//ChamberMaster//Event Calendar 2.0//EN
METHOD:PUBLISH
X-PUBLISHED-TTL:P3D
REFRESH-INTERVAL:P3D
CALSCALE:GREGORIAN
BEGIN:VEVENT
DTSTART:20130420T190000Z
DTEND:20130421T190000Z
X-MICROSOFT-CDO-ALLDAYEVENT:FALSE
SUMMARY:'Art and Antiques Road Show' at Josephy Center
DESCRIPTION:Area residents are invited to participate in the "Art and Antiques Road Show" set for Sat.\, April 20 and Sun.\, April 21 at the Josephy Center for Arts and Culture\, 403 N. Main St. in Joseph\, Ore. \n\n	\n\n	Certified appraisers from Maurer Appraisals LLC of the Tri-cities\, Wash.\, area will be present to provide valuations of local art and antiques.  The event is a fundraiser for the Josephy Center and a fee of $6 per item will be charged per evaluation.\n\n	Aside from bringing in appraisal items\, area residents and visitors are also most welcome to watch the Roadshow event take place\, which will be held from 9 a.m. to 5 p.m. on Saturday and from 9 a.m. to 3 p.m. on Sunday. \n\n	\n\n	Registered with the State of Washington and a member of the Certified Appraisers Guild of America\, owners Terry and Kathy Maurer have been dealers in art and antiques for more than 25 years. They have provided personal property appraisals and valuation services to public and private clients across the Northwest   including museums\, law enforcement agencies\, university officials\, and NW Public Radio   and have served as production staff with Public Television's popular "Antiques Roadshow".\n\n	\n\n	There is no limit to the number of appraisal items that anyone can bring in\, either as walk-in appraisals or by appointment by calling the Josephy Center at 541-432-0505 or info@josephy.org. \n\n	\n\n	A silent auction has been underway at the center since March 30 and will conclude on Sun.\, April 21 at 3 p.m. Bids can be made Mon.-Sat. from 12-4 p.m.  and winners need not be present at the bid closing to win.
X-ALT-DESC;FMTTYPE=text/html:<div style="color: gray\;">\n	<span style="font-size: medium\;"><span style="font-family: arial\,sans-serif\;"><span style="color: black\;">Area residents are invited to participate in the &ldquo\;Art and Antiques Road Show&rdquo\; set for Sat.\, April 20 and Sun.\, April 21 at the Josephy Center for Arts and Culture\, 403 N. Main St. in Joseph\, Ore.&nbsp\;</span></span></span><br />\n	<br />\n	<span style="font-size: medium\;"><span style="font-family: arial\,sans-serif\;"><span style="color: black\;">Certified appraisers from Maurer Appraisals LLC of the Tri-cities\, Wash.\, area will be present to provide valuations of local art and antiques.&nbsp\; </span></span></span><span style="font-size: medium\;"><span style="font-family: arial\,sans-serif\;"><span style="color: black\;">The event is a fundraiser for the Josephy Center and a fee of $6 per item will be charged per evaluation.</span></span></span><br />\n	<span style="font-size: medium\;"><span style="font-family: arial\,sans-serif\;"><span style="color: black\;">Aside from bringing in appraisal items\, area residents and visitors are also most welcome to watch the Roadshow event take place\, which will be held from 9 a.m. to 5 p.m. on Saturday and from 9 a.m. to 3 p.m. on Sunday.&nbsp\;</span></span></span><br />\n	<br />\n	<span style="font-size: medium\;"><span style="font-family: arial\,sans-serif\;"><span style="color: black\;">Registered with the State of Washington and a member of the Certified Appraisers Guild of America\, owners Terry and Kathy Maurer have been dealers in art and antiques for more than 25 years. </span></span></span><span style="font-size: medium\;"><span style="font-size: 12pt\;"><span style="font-family: arial\,sans-serif\;"><span style="color: black\;">They have provided personal property appraisals and valuation services to public and private clients across the Northwest &ndash\; including museums\, law enforcement agencies\, university officials\, and NW Public Radio &ndash\; and have served as production staff with Public Television&rsquo\;s popular &ldquo\;Antiques Roadshow&rdquo\;.<br />\n	<br />\n	<span style="font-size: medium\;"><span style="font-family: arial\,sans-serif\;"><span style="color: black\;">There is no limit to the number of appraisal items that anyone can bring in\, either as walk-in appraisals or by appointment by calling the Josephy Center at 541-432-0505 or </span></span></span><span style="color: black\;"><a href="mailto:info@josephy.org"><span style="font-family: arial\,sans-serif\;"><span style="color: rgb(0\, 0\, 255)\;">info@josephy.org</span></span></a></span><span style="font-family: arial\,sans-serif\;"><span style="color: black\;">. </span></span><br />\n	<br />\n	<span style="font-size: 12pt\;"><span style="font-family: arial\,sans-serif\;"><span style="color: black\;">A silent auction has been underway at the center since March 30 and will conclude on Sun.\, April 21 at 3 p.m. Bids can be made Mon.-Sat. from 12-4 p.m.&nbsp\; and winners need not be present at the bid closing to win. </span></span></span></span></span></span></span></div>\n
LOCATION:Josephy Center for Arts & Culture\, 405 N. Main St.\, Joseph
UID:e.1631.3709
SEQUENCE:3
DTSTAMP:20260419T181047Z
URL:http://wallowacountychamber.sampleorg.com/events/details/art-and-antiques-road-show-at-josephy-center-04-20-2013-3709
END:VEVENT

END:VCALENDAR
