BEGIN:VCALENDAR
VERSION:2.0
PRODID:-//ChamberMaster//Event Calendar 2.0//EN
METHOD:PUBLISH
X-PUBLISHED-TTL:P3D
REFRESH-INTERVAL:P3D
CALSCALE:GREGORIAN
BEGIN:VEVENT
DTSTART:20130315T020000Z
DTEND:20130315T040000Z
X-MICROSOFT-CDO-ALLDAYEVENT:FALSE
SUMMARY:"Blue Ice and Penguins"
DESCRIPTION:An engaging photo travelogue  to explore Antarctica through the lens of international photographer Kendrick Moholt.
X-ALT-DESC;FMTTYPE=text/html:An engaging photo travelogue&nbsp\; to explore Antarctica through the lens of international photographer Kendrick Moholt.
LOCATION:Josephy Center for Arts & Culture\, 403 N. Main St.\, Joseph
UID:e.1631.2380
SEQUENCE:3
DTSTAMP:20260419T193057Z
URL:http://wallowacountychamber.sampleorg.com/events/details/blue-ice-and-penguins-03-14-2013-2380
END:VEVENT

END:VCALENDAR
