BEGIN:VCALENDAR
VERSION:2.0
PRODID:-//ChamberMaster//Event Calendar 2.0//EN
METHOD:PUBLISH
X-PUBLISHED-TTL:P3D
REFRESH-INTERVAL:P3D
CALSCALE:GREGORIAN
BEGIN:VEVENT
DTSTART:20130207T190000Z
DTEND:20130210T030000Z
X-MICROSOFT-CDO-ALLDAYEVENT:FALSE
SUMMARY:Calderas Lava Lounge & Merchantile Season Openeer
DESCRIPTION:Calderas will open for the season beginning this Thursday.  They will be open Thursday - Saturday\, 11:00am-7:00pm.  Come and check out the women's clothing line\, with new items coming in weekly\, along with antiques and gifts.  Wine\, beer\, and coffee will be served all day along with desserts and short plates.
X-ALT-DESC;FMTTYPE=text/html:<div style="color: gray">\n	<span style="text-decoration: none\; text-underline: none"><span style="font-family: arial\, sans-serif"><span style="font-size: medium">Calderas will open for the season beginning this Thursday.&nbsp\; They will be open Thursday - Saturday\, 11:00am-7:00pm.&nbsp\; Come and check out the women&#39\;s clothing line\, with new items coming in weekly\, along with antiques and gifts.&nbsp\; Wine\, beer\, and coffee will be served all day along with desserts and short plates.&nbsp\;</span></span></span><br />\n	&nbsp\;</div>\n
LOCATION:300 N. Lake St.\, Joseph
UID:e.1631.542
SEQUENCE:3
DTSTAMP:20260419T210544Z
URL:http://wallowacountychamber.sampleorg.com/events/details/calderas-lava-lounge-merchantile-season-openeer-02-07-2013-542
END:VEVENT

END:VCALENDAR
