BEGIN:VCALENDAR
VERSION:2.0
PRODID:-//ChamberMaster//Event Calendar 2.0//EN
METHOD:PUBLISH
X-PUBLISHED-TTL:P3D
REFRESH-INTERVAL:P3D
CALSCALE:GREGORIAN
BEGIN:VEVENT
DTSTART:20130427T170000Z
DTEND:20130428T230000Z
X-MICROSOFT-CDO-ALLDAYEVENT:FALSE
SUMMARY:Cattle Country Quilts is Hosting A Quilt Class
DESCRIPTION:Cattle Country Quilts will be hosting two classes\, the first one is making the Hunter Star quilt.  Peggy Gelbrich\, well known in the quilting world will teach this historic quilt design using the "easy" way with modern techniques. \n\n\n\nSunday's class will be the "Montana Cartwheel" pattern that was exclusively designed by a quilt shop in Kalispell\, Montana.\n\n\n\nCall 541-432-6669 for info on class signup\, requisites and costs.
X-ALT-DESC;FMTTYPE=text/html:Cattle Country Quilts will be hosting&nbsp\;two classes\, the first&nbsp\;one is&nbsp\;making the Hunter Star quilt.&nbsp\; Peggy Gelbrich\, well known in the quilting world will teach this historic quilt design&nbsp\;using the &quot\;easy&quot\; way with modern techniques.&nbsp\;<br />\n<br />\nSunday&#39\;s class will be the &quot\;Montana Cartwheel&quot\; pattern that was exclusively designed by a quilt shop in Kalispell\, Montana.<br />\n<br />\nCall 541-432-6669 for info on class signup\, requisites and costs.<br />\n
LOCATION:Cattle Country Quilts\, 203 N. Main St.\, Joseph
UID:e.1631.3716
SEQUENCE:3
DTSTAMP:20260419T180456Z
URL:http://wallowacountychamber.sampleorg.com/events/details/cattle-country-quilts-is-hosting-a-quilt-class-04-27-2013-3716
END:VEVENT

END:VCALENDAR
