BEGIN:VCALENDAR
VERSION:2.0
PRODID:-//ChamberMaster//Event Calendar 2.0//EN
METHOD:PUBLISH
X-PUBLISHED-TTL:P3D
REFRESH-INTERVAL:P3D
CALSCALE:GREGORIAN
BEGIN:VEVENT
DTSTART:20130308T023000Z
DTEND:20130308T043000Z
X-MICROSOFT-CDO-ALLDAYEVENT:FALSE
SUMMARY:Cinema Night - "Rothko's Rooms"
DESCRIPTION:"Rothko's Room" a 60 minute documentary is about Mark Rothko (1903-1970)\, a leading America artist who created room-size abstract paintings.  Rothko wanted spectators to feel inside the pictorial space\, enveloped in his canvases' luminous color.
X-ALT-DESC;FMTTYPE=text/html:&quot\;Rothko&#39\;s Room&quot\; a 60 minute documentary is about Mark Rothko (1903-1970)\, a leading America artist who created room-size abstract paintings.&nbsp\; Rothko wanted spectators to feel inside the pictorial space\, enveloped in his canvases&#39\; luminous color.&nbsp\; 
LOCATION:Josephy Center for Arts & Culture\, 403 N. Main St.\, Joseph
UID:e.1631.2378
SEQUENCE:3
DTSTAMP:20260419T210547Z
URL:http://wallowacountychamber.sampleorg.com/events/details/cinema-night-rothko-s-rooms-03-07-2013-2378
END:VEVENT

END:VCALENDAR
