BEGIN:VCALENDAR
VERSION:2.0
PRODID:-//ChamberMaster//Event Calendar 2.0//EN
METHOD:PUBLISH
X-PUBLISHED-TTL:P3D
REFRESH-INTERVAL:P3D
CALSCALE:GREGORIAN
BEGIN:VEVENT
DTSTART:20130608T020000Z
DTEND:20130608T040000Z
X-MICROSOFT-CDO-ALLDAYEVENT:FALSE
SUMMARY:Classical Music Concert Featuring Violin & Piano Duet
DESCRIPTION:Come to the Josephy Center for Arts and Culture (403 N. Main Street\, Joseph) on Friday\, June 7 for a special classical music concert featuring Lisa Robertson and Dr. James Cook. The duet will perform sonatas for violin and piano by Mozart and Brahms and piano solo pieces by Chopin. There will be admission by donation\, and proceeds from the concert will go towards the Josephy Center and Wallowa Valley Music Alliance. Refreshments will be served.
X-ALT-DESC;FMTTYPE=text/html:Come to the <a href="http://josephycenter.org/">Josephy Center for Arts and Culture</a> (403 N. Main Street\, Joseph) on Friday\, June 7 for a special classical music concert featuring <strong>Lisa Robertson</strong> and <strong>Dr. James Cook.</strong> The duet will perform sonatas for violin and piano by Mozart and Brahms and piano solo pieces by Chopin. There will be admission by donation\, and proceeds from the concert will go towards the Josephy Center and Wallowa Valley Music Alliance. Refreshments will be served.
LOCATION:Josephy Center for Art & Culture
UID:e.1631.4169
SEQUENCE:3
DTSTAMP:20260419T150600Z
URL:http://wallowacountychamber.sampleorg.com/events/details/classical-music-concert-featuring-violin-piano-duet-06-07-2013-4169
END:VEVENT

END:VCALENDAR
