BEGIN:VCALENDAR
VERSION:2.0
PRODID:-//ChamberMaster//Event Calendar 2.0//EN
METHOD:PUBLISH
X-PUBLISHED-TTL:P3D
REFRESH-INTERVAL:P3D
CALSCALE:GREGORIAN
BEGIN:VEVENT
DTSTART:20130509T020000Z
DTEND:20130509T040000Z
X-MICROSOFT-CDO-ALLDAYEVENT:FALSE
SUMMARY:Coehlo: Live & Up Front
DESCRIPTION:Joseph ceramics artist and art historian Jack Coehlo will serve as featured artist on Wed.\, May 8 at the series of Live & Up Front Artist series at the Josephy Center for Arts and Culture. These informal presentations feature artists from throughout Wallowa County and encourage audience discussion. Coehlo is an artist\, ceramic designer and art educator who specializes in wall relief and sculptures in-the-round\, architectural ceramics\, and pottery and sculpture workshops. The program is free and all ages are invited\; it will begin at 7 p.m.
X-ALT-DESC;FMTTYPE=text/html:<span style="color:black\;"><span style="font-family:calibri\,sans-serif\;"><span style="font-size:12.0pt\;">Joseph ceramics artist and art historian Jack Coehlo will serve as featured artist on Wed.\, May 8 at the series of Live &amp\; Up Front Artist series at the Josephy Center for Arts and Culture. These informal presentations feature artists from throughout Wallowa County and encourage audience discussion. Coehlo is an artist\, ceramic designer and art educator who specializes in wall relief and sculptures in-the-round\, architectural ceramics\, and pottery and sculpture workshops. The program is free and all ages are invited\; it will begin at 7 p.m. </span></span></span>
LOCATION:Jospehy Center for Arts & Culture\, 405 N. Main St.\, Joseph
UID:e.1631.3722
SEQUENCE:3
DTSTAMP:20260419T163624Z
URL:http://wallowacountychamber.sampleorg.com/events/details/coehlo-live-up-front-05-08-2013-3722
END:VEVENT

END:VCALENDAR
