BEGIN:VCALENDAR
VERSION:2.0
PRODID:-//ChamberMaster//Event Calendar 2.0//EN
METHOD:PUBLISH
X-PUBLISHED-TTL:P3D
REFRESH-INTERVAL:P3D
CALSCALE:GREGORIAN
BEGIN:VEVENT
DTSTART:20130526T170000Z
DTEND:20130526T190000Z
X-MICROSOFT-CDO-ALLDAYEVENT:FALSE
SUMMARY:Come Fly with Us for Free!
DESCRIPTION:Chief Joseph Flyers\, the oldest flying club in Oregon\, founded in 1949\, will host a Learn to Fly Open House on Sunday May 26th\, 2013 from 10 to Noon at Joseph State Airport. The public is cordially invited to\n\n  Take a free test flight\n\n  Meet current club members\n\n  Learn the process involved in earning a Sport Pilot or Private Pilot\n\n   License\n\n  Visit Club facilities\n\n  Meet some visiting pilots and see their planes\n\n  Enjoy free refreshments\n\nClub memberships are now available.
X-ALT-DESC;FMTTYPE=text/html:<span style="font-family:comic sans ms\;"><span style="font-size: 14px\;">Chief Joseph Flyers\, the oldest flying club in Oregon\, founded in 1949\, will host a Learn to Fly Open House on Sunday May 26th\, 2013 from 10 to Noon at Joseph State Airport. The public is cordially invited to<br />\n&bull\; Take a free test flight<br />\n&bull\; Meet current club members<br />\n&bull\; Learn the process involved in earning a Sport Pilot or Private Pilot<br />\n&nbsp\;&nbsp\; License<br />\n&bull\; Visit Club facilities<br />\n&bull\; Meet some visiting pilots and see their planes<br />\n&bull\; Enjoy free refreshments<br />\nClub memberships are now available.</span></span>
LOCATION:Joseph State Airport
UID:e.1631.4168
SEQUENCE:3
DTSTAMP:20260419T163653Z
URL:http://wallowacountychamber.sampleorg.com/events/details/come-fly-with-us-for-free-05-26-2013-4168
END:VEVENT

END:VCALENDAR
