BEGIN:VCALENDAR
VERSION:2.0
PRODID:-//ChamberMaster//Event Calendar 2.0//EN
METHOD:PUBLISH
X-PUBLISHED-TTL:P3D
REFRESH-INTERVAL:P3D
CALSCALE:GREGORIAN
BEGIN:VEVENT
DTSTART:20130615T160000Z
DTEND:20130615T210000Z
X-MICROSOFT-CDO-ALLDAYEVENT:FALSE
SUMMARY:Community Clean Up Day
DESCRIPTION:Wallowa County Rotary Club sponsors Community Clean Up\, Saturday June 15th \n\n	What:  Collection of items not usually accepted at the county's recycling centers or landfills.\n\n	Time:   9am-2pm -  Please no drop offs before or after\n\n	Where: Enterprise Recycle Center on Fish Hatchery Lane\n\n	\n\n	Items which will be accepted:\n\n	1. Clean tires - MUST BE OFF RIMS\n\n	2. Cans of latex paint\n\n	3. Non-leaking automotive batteries\n\n	4. Printer/toner ink cartridges\n\n	5. Cell Phones\n\n	6. Digital cameras\n\n	7. Computers & Laptops\n\n	8. Keyboards & monitors\n\n	9. Computer towers
X-ALT-DESC;FMTTYPE=text/html:<p>\n	Wallowa County Rotary Club sponsors <span style="color:#ff0000\;"><em><strong>Community Clean Up\, Saturday June 15th </strong></em></span><br />\n	<strong>What:&nbsp\;</strong> Collection of items not usually accepted at the county&#39\;s recycling centers or landfills.<br />\n	<strong>Time:</strong> &nbsp\; 9am-2pm -&nbsp\; Please no drop offs before or after<br />\n	<strong>Where:</strong> Enterprise Recycle Center on Fish Hatchery Lane<br />\n	<br />\n	Items which will be accepted:<br />\n	1. Clean tires - MUST BE OFF RIMS<br />\n	2. Cans of latex paint<br />\n	3. Non-leaking automotive batteries<br />\n	4. Printer/toner ink cartridges<br />\n	5. Cell Phones<br />\n	6. Digital cameras<br />\n	7. Computers &amp\; Laptops<br />\n	8. Keyboards &amp\; monitors<br />\n	9. Computer towers<br />\n	&nbsp\;</p>\n
LOCATION:Enterprise Recycle Center on Fish Hatchery Lane\, Enterprise
UID:e.1631.4298
SEQUENCE:3
DTSTAMP:20260419T150943Z
URL:http://wallowacountychamber.sampleorg.com/events/details/community-clean-up-day-06-15-2013-4298
END:VEVENT

END:VCALENDAR
