BEGIN:VCALENDAR
VERSION:2.0
PRODID:-//ChamberMaster//Event Calendar 2.0//EN
METHOD:PUBLISH
X-PUBLISHED-TTL:P3D
REFRESH-INTERVAL:P3D
CALSCALE:GREGORIAN
BEGIN:VEVENT
DTSTART;VALUE=DATE:20130123
DTEND;VALUE=DATE:20130127
TRANSP:TRANSPARENT
X-MICROSOFT-CDO-ALLDAYEVENT:TRUE
SUMMARY:Eagle Cap Extreme
DESCRIPTION:Oregon's only Iditarod and Yukon Quest qualifer!
X-ALT-DESC;FMTTYPE=text/html:Oregon&#39\;s only Iditarod and Yukon Quest qualifer! 
LOCATION:
UID:e.1631.50
SEQUENCE:3
DTSTAMP:20260419T223525Z
URL:http://wallowacountychamber.sampleorg.com/events/details/eagle-cap-extreme-01-23-2013-50
END:VEVENT

END:VCALENDAR
