BEGIN:VCALENDAR
VERSION:2.0
PRODID:-//ChamberMaster//Event Calendar 2.0//EN
METHOD:PUBLISH
X-PUBLISHED-TTL:P3D
REFRESH-INTERVAL:P3D
CALSCALE:GREGORIAN
BEGIN:VEVENT
DTSTART:20130330T170000Z
DTEND:20130330T190000Z
X-MICROSOFT-CDO-ALLDAYEVENT:FALSE
SUMMARY:Easter Egg Hunt - Enterprise
DESCRIPTION:The Enterprise Elks Lodge are sponsoring an Easter Egg Hunt.  Children in three age groups: infant to 3\, 4-7 and 8-12 are invited to fill their baskets with 100 dozen dyed eggs as well as special plastic cash prize eggs.  All three groups will start at once\, so don't be late.
X-ALT-DESC;FMTTYPE=text/html:<span style="font-size: medium\;"><span style="color: rgb(0\, 0\, 255)\;"><span style="text-decoration: none\; text-underline: none\;"><span style="font-family: arial\,sans-serif\;">The Enterprise Elks Lodge&nbsp\;are sponsoring an Easter Egg Hunt.&nbsp\; Children in three age groups: infant to 3\, 4-7 and 8-12 are invited to fill their baskets with 100 dozen dyed eggs as well as special plastic cash prize eggs.&nbsp\; All three groups will start at once\, so don&#39\;t be late.</span></span></span></span><br />\n
LOCATION:Jensen Field (behind Safeway)\, Enterprise
UID:e.1631.2956
SEQUENCE:3
DTSTAMP:20260419T192422Z
URL:http://wallowacountychamber.sampleorg.com/events/details/easter-egg-hunt-enterprise-03-30-2013-2956
END:VEVENT

END:VCALENDAR
