BEGIN:VCALENDAR
VERSION:2.0
PRODID:-//ChamberMaster//Event Calendar 2.0//EN
METHOD:PUBLISH
X-PUBLISHED-TTL:P3D
REFRESH-INTERVAL:P3D
CALSCALE:GREGORIAN
BEGIN:VEVENT
DTSTART:20130330T170000Z
DTEND:20130330T230000Z
X-MICROSOFT-CDO-ALLDAYEVENT:FALSE
SUMMARY:Easter Egg Hunt & "Hoppy Hour"
DESCRIPTION:The Easter Egg Hunt in Joseph is sponsored by the Joseph Chamber of Commerce.  Kids will be divided into three divisions.  The Easter bunny is expected to be a special guest.  This year the Joseph Chamber is also sponsoring a "Hoppy Hour" from 2-4pm\, inviting adults to find a golden egg at participating businesses.
X-ALT-DESC;FMTTYPE=text/html:<span style="font-size: medium\;"><span style="color: rgb(0\, 0\, 255)\;"><span style="text-decoration: none\; text-underline: none\;"><span style="font-family: arial\,sans-serif\;">The Easter Egg Hunt in Joseph is sponsored by the Joseph Chamber of Commerce.&nbsp\; Kids will be divided into three divisions.&nbsp\; The Easter bunny is expected to be a special guest.&nbsp\; This year the Joseph Chamber is also sponsoring a &quot\;Hoppy Hour&quot\; from 2-4pm\, inviting adults to find a golden egg at participating businesses.</span></span></span></span><br />\n
LOCATION:The Easter Egg is at the Joseph City Park "Hoppy Hour" is at participating businesses along Joseph Main St.
UID:e.1631.2958
SEQUENCE:3
DTSTAMP:20260419T193014Z
URL:http://wallowacountychamber.sampleorg.com/events/details/easter-egg-hunt-hoppy-hour-03-30-2013-2958
END:VEVENT

END:VCALENDAR
