BEGIN:VCALENDAR
VERSION:2.0
PRODID:-//ChamberMaster//Event Calendar 2.0//EN
METHOD:PUBLISH
X-PUBLISHED-TTL:P3D
REFRESH-INTERVAL:P3D
CALSCALE:GREGORIAN
BEGIN:VEVENT
DTSTART:20130330T170000Z
DTEND:20130330T190000Z
X-MICROSOFT-CDO-ALLDAYEVENT:FALSE
SUMMARY:Easter Egg Hunt - Wallowa
DESCRIPTION:The city of Wallowa is hosting an Easter Egg Hunt and are invited to meet the Easter Bunny\, who plans to personally oversee an egg hunt at Lions Club Park.  The city invites children ages newborn to 11. Look for the special prize eggs.
X-ALT-DESC;FMTTYPE=text/html:<div style="color: gray\;">\n	<span style="text-decoration: none\; text-underline: none\;"><span style="font-size: 11pt\;"><span style="font-family: arial\,sans-serif\;"><span style="color: rgb(0\, 0\, 255)\;">The city of Wallowa is hosting an Easter Egg Hunt and are invited to meet the Easter Bunny\, who plans to personally oversee an egg hunt at Lions Club Park.&nbsp\; The city invites children ages newborn to 11. Look for the special prize eggs.</span></span></span></span></div>\n
LOCATION:Lions Club Park\, Wallowa
UID:e.1631.2957
SEQUENCE:3
DTSTAMP:20260419T192957Z
URL:http://wallowacountychamber.sampleorg.com/events/details/easter-egg-hunt-wallowa-03-30-2013-2957
END:VEVENT

END:VCALENDAR
