BEGIN:VCALENDAR
VERSION:2.0
PRODID:-//ChamberMaster//Event Calendar 2.0//EN
METHOD:PUBLISH
X-PUBLISHED-TTL:P3D
REFRESH-INTERVAL:P3D
CALSCALE:GREGORIAN
BEGIN:VEVENT
DTSTART:20130413T003000Z
DTEND:20130413T033000Z
X-MICROSOFT-CDO-ALLDAYEVENT:FALSE
SUMMARY:Enterprise Education Foundation Dinner
DESCRIPTION:9th Annual 'WE LOVE OUR KIDS' dinner auction hosted by the Enterprise Education Foundation.  Doors open at 5:30pm for silent and live auction viewing.  The Prime rib dinner will begin at 6:00pm.  The dinner is prepared by Zane and Jess Anderson.  All proceeds raised help to fund art 1st-12th grade and music K-6th grade in Enterprise.
X-ALT-DESC;FMTTYPE=text/html:<span style="font-size: 14px\;"><span style="font-family: verdana\;">9th Annual &#39\;<strong><em>WE LOVE OUR KIDS&#39\; </em></strong>dinner auction hosted by the Enterprise Education Foundation.&nbsp\; Doors open at 5:30pm for silent and live auction viewing.&nbsp\; The Prime rib dinner will begin at 6:00pm.&nbsp\; The dinner is prepared by Zane and Jess Anderson.&nbsp\; <strong>All proceeds raised help to fund art 1st-12th grade and music K-6th grade in Enterprise</strong>.</span></span>
LOCATION:
UID:e.1631.3426
SEQUENCE:3
DTSTAMP:20260419T180301Z
URL:http://wallowacountychamber.sampleorg.com/events/details/enterprise-education-foundation-dinner-04-12-2013-3426
END:VEVENT

END:VCALENDAR
