BEGIN:VCALENDAR
VERSION:2.0
PRODID:-//ChamberMaster//Event Calendar 2.0//EN
METHOD:PUBLISH
X-PUBLISHED-TTL:P3D
REFRESH-INTERVAL:P3D
CALSCALE:GREGORIAN
BEGIN:VEVENT
DTSTART:20260502T020000Z
DTEND:20260502T040000Z
X-MICROSOFT-CDO-ALLDAYEVENT:FALSE
SUMMARY:Europe's Last Primeval Forest
DESCRIPTION:The Bialowieza Forest is a place of exquisite natural value and struggle over the meaning of nation and forest. Will it survive ongoing attempts to log it?\n\n\n\nThis talk will explore these tensions in an ethnographic account of individuals\, both prominent and less famous\, whose lives and descriptions open a window into better understanding conservation and use conflicts.
X-ALT-DESC;FMTTYPE=text/html:The Bialowieza Forest is a place of exquisite natural value and struggle over the meaning of nation and forest. Will it survive ongoing attempts to log it?<br />\n<br />\nThis talk will explore these tensions in an ethnographic account of individuals\, both prominent and less famous\, whose lives and descriptions open a window into better understanding conservation and use conflicts.
LOCATION:Wallowology\, Joseph
UID:e.1631.29400
SEQUENCE:3
DTSTAMP:20260423T111507Z
URL:http://wallowacountychamber.sampleorg.com/events/details/europe-s-last-primeval-forest-29400
END:VEVENT

END:VCALENDAR
