BEGIN:VCALENDAR
VERSION:2.0
PRODID:-//ChamberMaster//Event Calendar 2.0//EN
METHOD:PUBLISH
X-PUBLISHED-TTL:P3D
REFRESH-INTERVAL:P3D
CALSCALE:GREGORIAN
BEGIN:VEVENT
DTSTART:20130529T173000Z
DTEND:20130529T180000Z
X-MICROSOFT-CDO-ALLDAYEVENT:FALSE
SUMMARY:Fishtrap Coffeehouse Conversations
DESCRIPTION:Every Wednesday join Ben and Ann to discuss titles from this year's Summer Fishtrap faculty at the Fishtrap Coffin House.  This week's topic are Poets Minton Sparks and Holly Hughes - Boxing the Compass and Beyond Forgetting.
X-ALT-DESC;FMTTYPE=text/html:Every Wednesday join Ben and Ann to discuss titles from this year&#39\;s Summer Fishtrap faculty at the Fishtrap Coffin House.&nbsp\; This week&#39\;s topic are Poets<strong> Minton Sparks and Holly Hughes </strong>- <strong><em>Boxing the Compass and Beyond Forgetting.</em></strong>
LOCATION:Fishtrap Coffin House\, 400 E. Grant Street\, Enterprise OR
UID:e.1631.4202
SEQUENCE:3
DTSTAMP:20260419T163631Z
URL:http://wallowacountychamber.sampleorg.com/events/details/fishtrap-coffeehouse-conversations-05-29-2013-4202
END:VEVENT

END:VCALENDAR
