BEGIN:VCALENDAR
VERSION:2.0
PRODID:-//ChamberMaster//Event Calendar 2.0//EN
METHOD:PUBLISH
X-PUBLISHED-TTL:P3D
REFRESH-INTERVAL:P3D
CALSCALE:GREGORIAN
BEGIN:VEVENT
DTSTART:20130321T183000Z
DTEND:20130321T200000Z
X-MICROSOFT-CDO-ALLDAYEVENT:FALSE
SUMMARY:Formation of Oregon Employer Council Organizational Meeting
DESCRIPTION:Oregon Employment Department with Viridian Management & Chrisman Development  Cordially invite you to an organizational meeting to discuss the formation of an Oregon Employer Council in Wallowa County.  Please join us to discuss the need to bring effective tools and information to local employers regarding compensation\, benefits and compliance with employment law\, as well as critical training opportunities for both employers and employees facilitated through the Oregon Employment Department. Please RSVP by March 19\, 2013 to Viridian Mgmt\, Courtney 541-426-3820\, Ext. 709 or the Oregon Employment Department 541-426-4972.  Lunch will be provided.
X-ALT-DESC;FMTTYPE=text/html:<em><span style="font-size: 16pt\;"><span style="font-family: times new roman\;">Oregon Employment Department with Viridian Management &amp\; Chrisman Development&nbsp\; Cordially invite you to an organizational meeting to discuss the formation of an Oregon Employer Council in Wallowa County.&nbsp\; Please join us to discuss the need to bring effective tools and information to local employers regarding compensation\, benefits and compliance with employment law\, as well as critical training opportunities for both employers and employees facilitated through the Oregon Employment Department. Please RSVP by March 19\, 2013 to Viridian Mgmt\, Courtney 541-426-3820\, Ext. 709 or the Oregon Employment Department 541-426-4972.&nbsp\; Lunch will be provided.</span></span></em><br />\n
LOCATION:Chrisman Development & Viridian Management Conference Room at 200 E. Main St.\, Enterprise.
UID:e.1631.2522
SEQUENCE:3
DTSTAMP:20260419T210649Z
URL:http://wallowacountychamber.sampleorg.com/events/details/formation-of-oregon-employer-council-organizational-meeting-03-21-2013-2522
END:VEVENT

END:VCALENDAR
