BEGIN:VCALENDAR
VERSION:2.0
PRODID:-//ChamberMaster//Event Calendar 2.0//EN
METHOD:PUBLISH
X-PUBLISHED-TTL:P3D
REFRESH-INTERVAL:P3D
CALSCALE:GREGORIAN
BEGIN:VEVENT
DTSTART:20130601T170000Z
DTEND:20130601T210000Z
X-MICROSOFT-CDO-ALLDAYEVENT:FALSE
SUMMARY:Free Fishing Day at Marr Pond
DESCRIPTION:Free Fishing Day in Wallowa County will be at Marr Pond in Enterprise. Children should bring their fishing rods\, favorite lure\, enthusiasm\, and be prepared to catch the big fish!  Loaner rods and bait will be available for those who need them. There will be prizes for the fishing and casting contests.  A hot dog lunch will be provided. There will be painting\, coloring\, and hands on educational activities for all ages. \n\n \n\nThis event is made possible by local civic organizations\, individuals\, and businesses.  Employees from the Oregon Department of Fish and Wildlife\, Nez Perce Tribe\, U.S. Fish and Wildlife Service\, and Wallowa-Whitman National Forest\, along with local volunteers\, are assisting with the event. For information contact Ron Harrod\, 541-426-4467\, ODFW Wallowa Fish Hatchery.
X-ALT-DESC;FMTTYPE=text/html:<span style="background:#FFFFCC\;"><span style="font-family:arial\,sans-serif\;">Free</span></span><span style="font-family:arial\,sans-serif\;">&nbsp\;<span style="background:#FFFFCC\;">Fishing</span>&nbsp\;<span style="background:#FFFFCC\;">Day</span>&nbsp\;in Wallowa County will be at Marr Pond in Enterprise. Children should bring their&nbsp\;<span style="background:#FFFFCC\;">fishing</span>&nbsp\;rods\, favorite lure\, enthusiasm\, and be prepared to catch the big fish!&nbsp\; Loaner rods and bait will be available for those who need them. There will be prizes for the&nbsp\;<span style="background:#FFFFCC\;">fishing</span>&nbsp\;and casting contests.&nbsp\; A hot dog lunch will be provided. There will be painting\, coloring\, and hands on educational activities for all ages.&nbsp\;</span><br />\n&nbsp\;<br />\n<span style="font-family:arial\,sans-serif\;">This event is made possible by local civic organizations\, individuals\, and businesses.&nbsp\; Employees from the Oregon Department of Fish and Wildlife\, Nez Perce Tribe\, U.S. Fish and Wildlife Service\, and Wallowa-Whitman National Forest\, along with local volunteers\, are assisting with the event. For information contact Ron Harrod\,&nbsp\;<a href="tel:541-426-4467" target="_blank" value="+15414264467">541-426-4467</a>\, ODFW Wallowa Fish Hatchery.</span>
LOCATION:Marr Pond\, Enterprise
UID:e.1631.4319
SEQUENCE:3
DTSTAMP:20260419T151139Z
URL:http://wallowacountychamber.sampleorg.com/events/details/free-fishing-day-at-marr-pond-06-01-2013-4319
END:VEVENT

END:VCALENDAR
