BEGIN:VCALENDAR
VERSION:2.0
PRODID:-//ChamberMaster//Event Calendar 2.0//EN
METHOD:PUBLISH
X-PUBLISHED-TTL:P3D
REFRESH-INTERVAL:P3D
CALSCALE:GREGORIAN
BEGIN:VEVENT
DTSTART:20130215T000000Z
DTEND:20130215T040000Z
X-MICROSOFT-CDO-ALLDAYEVENT:FALSE
SUMMARY:Glacier Grill Valentine's Dinner & Season Kickoff
DESCRIPTION:Valentine's Day for Dinner.  The special is Smoked Prime Rib Dinner for $23.95 and that includes dessert.\, regular menu available too.\n\n	This is the season kick off week end\, so will also be open Friday\, Saturday and Sunday\, 11:00am to 8:00pm.  This will be our early season hours until the weather gets warmer and people start getting out and about more.
X-ALT-DESC;FMTTYPE=text/html:<div style="color: gray">\n	<span style="font-size: medium"><span style="font-family: times new roman"><em><strong>Valentine&#39\;s Day for Dinner</strong></em>.&nbsp\; The special is Smoked Prime Rib Dinner for $23.95 and that includes dessert.\, regular menu available too.</span></span><br />\n	<span style="font-size: 12pt"><span style="font-family: times new roman\, serif">This is the season kick off week end\, so&nbsp\;will also be open Friday\, Saturday and Sunday\, 11:00am to 8:00pm.&nbsp\; This will be our early season hours until the weather gets warmer and people start getting out&nbsp\;and about more.&nbsp\;</span></span></div>\n
LOCATION:72784 Marina Lane\, south end of Wallowa Lake
UID:e.1631.549
SEQUENCE:3
DTSTAMP:20260419T210547Z
URL:http://wallowacountychamber.sampleorg.com/events/details/glacier-grill-valentine-s-dinner-season-kickoff-02-14-2013-549
END:VEVENT

END:VCALENDAR
