BEGIN:VCALENDAR
VERSION:2.0
PRODID:-//ChamberMaster//Event Calendar 2.0//EN
METHOD:PUBLISH
X-PUBLISHED-TTL:P3D
REFRESH-INTERVAL:P3D
CALSCALE:GREGORIAN
BEGIN:VEVENT
DTSTART:20130420T160000Z
DTEND:20130420T220000Z
X-MICROSOFT-CDO-ALLDAYEVENT:FALSE
SUMMARY:Grange Bunko
DESCRIPTION:The Hurricane Creek Grange Hall will be having a Bunko game day on April 20th.  The Grange is using this as a fundraiser for providing dictionaries to all third graders in Wallowa County and the Scholarship Education Fund to provide 3- $250 scholarships for Wallowa County Seniors.  Prizes will be awarded to the winners.  The cost is $10 to play and includes lunch.
X-ALT-DESC;FMTTYPE=text/html:The Hurricane Creek Grange Hall will be having a Bunko game day on April 20th.&nbsp\; The Grange is using this as a fundraiser for providing dictionaries to all third graders in Wallowa County and the Scholarship Education Fund to provide 3- $250 scholarships for Wallowa County Seniors.&nbsp\; Prizes will be awarded to the winners.&nbsp\; The cost is $10 to play and includes lunch.
LOCATION:Hurricane Ck. Grange Hall on Hurricane Ck Rd.
UID:e.1631.3560
SEQUENCE:3
DTSTAMP:20260419T180224Z
URL:http://wallowacountychamber.sampleorg.com/events/details/grange-bunko-04-20-2013-3560
END:VEVENT

END:VCALENDAR
