BEGIN:VCALENDAR
VERSION:2.0
PRODID:-//ChamberMaster//Event Calendar 2.0//EN
METHOD:PUBLISH
X-PUBLISHED-TTL:P3D
REFRESH-INTERVAL:P3D
CALSCALE:GREGORIAN
BEGIN:VEVENT
DTSTART:20130222T190000Z
DTEND:20130222T200000Z
X-MICROSOFT-CDO-ALLDAYEVENT:FALSE
SUMMARY:Hells Canyon Mule Days - 2012 Airing
DESCRIPTION:A half hour program featuring Hells Canyon Mule Days 2012 show will air Friday\, February 22 at 11:00 am and 8:30 pm on RFD TV's Rural Heritage program.  Direct TV is channel 345 and Dish TV is channel 231. This will be a shortened version of the DVD that Video Mike Productions\, produced of the 2012\, Hells Canyon Mule Days event. The DVD\, with highlights of the three day event\, is available to purchase along with other Mule Days souven-ears at the Mule Days display booth at Favorite Finds on Main in Enterprise.
X-ALT-DESC;FMTTYPE=text/html:<div style="color: gray">\n	<span style="font-family: times new roman"><span style="font-size: 11pt"><span style="color: black">A half hour program featuring Hells Canyon Mule Days 2012 show will air Friday\, February 22 at 11:00 am and 8:30 pm on RFD TV&rsquo\;s Rural Heritage program.&nbsp\; </span></span></span><span style="font-family: times new roman"><span style="font-size: 11pt"><span style="color: black">Direct TV is channel 345 and Dish TV is channel 231. This will be a shortened version of the DVD that Video Mike Productions\, produced of the 2012\, </span></span></span><span style="font-family: times new roman"><span style="font-size: 11pt"><span style="color: black">Hells Canyon Mule Days event. The DVD\, with highlights of the three day event\, is available to purchase along with other Mule Days souven-ears at the </span></span></span><span style="font-size: 11pt"><span style="color: black"><span style="font-family: times new roman\, serif">Mule Days display booth at Favorite Finds on Main in Enterprise.&nbsp\;&nbsp\;&nbsp\;&nbsp\;</span></span></span></div>\n
LOCATION:Direct TV channel 345 and on Dish TV channel 231
UID:e.1631.1833
SEQUENCE:3
DTSTAMP:20260419T210434Z
URL:http://wallowacountychamber.sampleorg.com/events/details/hells-canyon-mule-days-2012-airing-02-22-2013-1833
END:VEVENT

END:VCALENDAR
