BEGIN:VCALENDAR
VERSION:2.0
PRODID:-//ChamberMaster//Event Calendar 2.0//EN
METHOD:PUBLISH
X-PUBLISHED-TTL:P3D
REFRESH-INTERVAL:P3D
CALSCALE:GREGORIAN
BEGIN:VEVENT
DTSTART:20130616T020000Z
DTEND:20130616T040000Z
X-MICROSOFT-CDO-ALLDAYEVENT:FALSE
SUMMARY:Homemade Jam Band CD Release Party
DESCRIPTION:Homemade Jam Band celebrates release of their first CD. The seven-member local band will perform songs from album.
X-ALT-DESC;FMTTYPE=text/html:Homemade Jam Band celebrates release of their first CD. The seven-member local band will perform songs from album.
LOCATION:Josephy Center\, Enterprise
UID:e.1631.4323
SEQUENCE:3
DTSTAMP:20260419T150528Z
URL:http://wallowacountychamber.sampleorg.com/events/details/homemade-jam-band-cd-release-party-06-15-2013-4323
END:VEVENT

END:VCALENDAR
