BEGIN:VCALENDAR
VERSION:2.0
PRODID:-//ChamberMaster//Event Calendar 2.0//EN
METHOD:PUBLISH
X-PUBLISHED-TTL:P3D
REFRESH-INTERVAL:P3D
CALSCALE:GREGORIAN
BEGIN:VEVENT
DTSTART:20130220T030000Z
DTEND:20130220T050000Z
X-MICROSOFT-CDO-ALLDAYEVENT:FALSE
SUMMARY:Impressions of Iran
DESCRIPTION:"Impressions of Iran"\, a photo travelogue on the ancient art and culture of southwest Asia\, will be presented on Tues.\, Feb. 19 at 7 p.m. Admission is by donation. The program will be presented by Lyn Craig\, exec. director of the Josephy Center\, and is hosted by the Wallowa Valley Photo Club.
X-ALT-DESC;FMTTYPE=text/html:<span style="font-size: 11pt"><span style="color: black"><span style="font-family: times new roman\, serif">&ldquo\;Impressions of Iran&rdquo\;\, a photo travelogue on the ancient art and culture of southwest Asia\, will be presented on Tues.\, Feb. 19 at 7 p.m. Admission is by donation. The program will be presented by Lyn Craig\, exec. director of the Josephy Center\, and is hosted by the Wallowa Valley Photo Club.&nbsp\;&nbsp\;</span></span></span>
LOCATION:Josephy Center Center for Arts And Culture\, 403 N. Main St.\, Joseph
UID:e.1631.550
SEQUENCE:3
DTSTAMP:20260419T210547Z
URL:http://wallowacountychamber.sampleorg.com/events/details/impressions-of-iran-02-19-2013-550
END:VEVENT

END:VCALENDAR
