BEGIN:VCALENDAR
VERSION:2.0
PRODID:-//ChamberMaster//Event Calendar 2.0//EN
METHOD:PUBLISH
X-PUBLISHED-TTL:P3D
REFRESH-INTERVAL:P3D
CALSCALE:GREGORIAN
BEGIN:VEVENT
DTSTART:20130713T160000Z
DTEND:20130713T190000Z
X-MICROSOFT-CDO-ALLDAYEVENT:FALSE
SUMMARY:Into The Wallowa: East Moraine of Wallowa Lake
DESCRIPTION:"Into The Wallowa Outing" will focus on the East Moraine of Wallowa Lake\, led by Wallowa Land Trust Conservation Director Julia Lakes. This hike will highlight the cultural and ecological values of the Wallowa Lake Basin. Julia will focus on ways in which the protection of the privately-owned moraines can help maintain the rural nature of Wallowa County. Moderate to strenuous hike.
X-ALT-DESC;FMTTYPE=text/html:&quot\;Into The Wallowa Outing&quot\; will focus on the East Moraine of Wallowa Lake\, led by Wallowa Land Trust Conservation Director Julia Lakes. This hike will highlight the cultural and ecological values of the Wallowa Lake Basin. Julia will focus on ways in which the protection of the privately-owned moraines can help maintain the rural nature of Wallowa County. Moderate to strenuous hike.
LOCATION:Meet at Wallowa Land Trust's office (116 South River Street in Enterprise) at 9am
UID:e.1631.4342
SEQUENCE:3
DTSTAMP:20260419T134954Z
URL:http://wallowacountychamber.sampleorg.com/events/details/into-the-wallowa-east-moraine-of-wallowa-lake-07-13-2013-4342
END:VEVENT

END:VCALENDAR
