BEGIN:VCALENDAR
VERSION:2.0
PRODID:-//ChamberMaster//Event Calendar 2.0//EN
METHOD:PUBLISH
X-PUBLISHED-TTL:P3D
REFRESH-INTERVAL:P3D
CALSCALE:GREGORIAN
BEGIN:VEVENT
DTSTART:20130719T020000Z
DTEND:20130719T040000Z
X-MICROSOFT-CDO-ALLDAYEVENT:FALSE
SUMMARY:Into the Wallowa Lecture: Sustainable Agriculture on Two Continents
DESCRIPTION:Into The Wallowa Evening Lecture. Local rancher and rangeland ecologist Mike Hale will share stories and images from his work with pastoral cultures and rangeland ecology locally and also in Mongolia and Armenia\,  highlighting the parallels between people\, ranching and landscapes around the world.
X-ALT-DESC;FMTTYPE=text/html:Into The Wallowa Evening Lecture. Local rancher and rangeland ecologist Mike Hale will share stories and images from his work with pastoral cultures and rangeland ecology locally and also in Mongolia and Armenia\,&nbsp\; highlighting the parallels between people\, ranching and landscapes around the world. &nbsp\;
LOCATION:Odd Fellows Hall 105 NE 1st St.\, Enterprise
UID:e.1631.4344
SEQUENCE:3
DTSTAMP:20260419T134936Z
URL:http://wallowacountychamber.sampleorg.com/events/details/into-the-wallowa-lecture-sustainable-agriculture-on-two-continents-07-18-2013-4344
END:VEVENT

END:VCALENDAR
