BEGIN:VCALENDAR
VERSION:2.0
PRODID:-//ChamberMaster//Event Calendar 2.0//EN
METHOD:PUBLISH
X-PUBLISHED-TTL:P3D
REFRESH-INTERVAL:P3D
CALSCALE:GREGORIAN
BEGIN:VEVENT
DTSTART:20130720T160000Z
DTEND:20130720T190000Z
X-MICROSOFT-CDO-ALLDAYEVENT:FALSE
SUMMARY:Into the Wallowa Outing: West Moraine of Wallowa Lake
DESCRIPTION:Into The Wallowa Outing. Join local wildlife biologist Holly Akenson for a hike on the West Moraine of Wallowa Lake. Holly will reveal some of the cultural and biological values of the Wallowa Lake Basin and the land trust's efforts to protect this magnificent landform. Moderate hike.
X-ALT-DESC;FMTTYPE=text/html:Into The Wallowa Outing. Join local wildlife biologist Holly Akenson for a hike on the West Moraine of Wallowa Lake. Holly will reveal some of the cultural and biological values of the Wallowa Lake Basin and the land trust&#39\;s efforts to protect this magnificent landform. Moderate hike.&nbsp\;
LOCATION:Meet at Wallowa Land Trust's office (116 South River Street in Enterprise) at 9am.
UID:e.1631.4345
SEQUENCE:3
DTSTAMP:20260419T134929Z
URL:http://wallowacountychamber.sampleorg.com/events/details/into-the-wallowa-outing-west-moraine-of-wallowa-lake-07-20-2013-4345
END:VEVENT

END:VCALENDAR
