BEGIN:VCALENDAR
VERSION:2.0
PRODID:-//ChamberMaster//Event Calendar 2.0//EN
METHOD:PUBLISH
X-PUBLISHED-TTL:P3D
REFRESH-INTERVAL:P3D
CALSCALE:GREGORIAN
BEGIN:VEVENT
DTSTART:20130428T000000Z
DTEND:20130428T030000Z
X-MICROSOFT-CDO-ALLDAYEVENT:FALSE
SUMMARY:Joseph Education Foundation Prime Rib & Oyster Dinner
DESCRIPTION:Joseph Education Foundation Dinner will begin at 5:00pm with dinner beginning at 5:30pm.  Tickets are available from the school office\, Alpine Chiropractic\, JEF members and at the door.  There will be a live and silent auction.
X-ALT-DESC;FMTTYPE=text/html:Joseph Education Foundation Dinner will begin at 5:00pm with dinner beginning at 5:30pm.&nbsp\; Tickets are available from the school office\, Alpine Chiropractic\, JEF members and at the door.&nbsp\; There will be a live and silent auction. 
LOCATION:Joseph Charter School Cafeteria\, Joseph
UID:e.1631.3720
SEQUENCE:3
DTSTAMP:20260419T180455Z
URL:http://wallowacountychamber.sampleorg.com/events/details/joseph-education-foundation-prime-rib-oyster-dinner-04-27-2013-3720
END:VEVENT

END:VCALENDAR
