BEGIN:VCALENDAR
VERSION:2.0
PRODID:-//ChamberMaster//Event Calendar 2.0//EN
METHOD:PUBLISH
X-PUBLISHED-TTL:P3D
REFRESH-INTERVAL:P3D
CALSCALE:GREGORIAN
BEGIN:VEVENT
DTSTART:20130303T020000Z
DTEND:20130303T060000Z
X-MICROSOFT-CDO-ALLDAYEVENT:FALSE
SUMMARY:Joseph FFA Alumni Dinner/Auction/Dance
DESCRIPTION:The Annual Joseph FFA Alumni Dinner/Auction/Dance will be tonight.  A tri-tip dinner is on the menu.
X-ALT-DESC;FMTTYPE=text/html:The Annual Joseph FFA Alumni Dinner/Auction/Dance will be tonight.&nbsp\; A tri-tip dinner is on the menu.
LOCATION:Joseph Community Center\, 102 E. 1st St.\, Joseph
UID:e.1631.2375
SEQUENCE:3
DTSTAMP:20260419T192510Z
URL:http://wallowacountychamber.sampleorg.com/events/details/joseph-ffa-alumni-dinner-auction-dance-03-02-2013-2375
END:VEVENT

END:VCALENDAR
