BEGIN:VCALENDAR
VERSION:2.0
PRODID:-//ChamberMaster//Event Calendar 2.0//EN
METHOD:PUBLISH
X-PUBLISHED-TTL:P3D
REFRESH-INTERVAL:P3D
CALSCALE:GREGORIAN
BEGIN:VEVENT
DTSTART:20130417T000000Z
DTEND:20130417T020000Z
X-MICROSOFT-CDO-ALLDAYEVENT:FALSE
SUMMARY:Joseph FFA Alumni Drive-By Dinner
DESCRIPTION:Joseph FFA Alumni will have their Drive-By dinner.  The pork loin dinner can be picked up or you can eat on site in the Joseph Charter School cafeteria.
X-ALT-DESC;FMTTYPE=text/html:Joseph FFA Alumni will have their Drive-By dinner.&nbsp\; The pork loin dinner can be picked up or you can eat on site in the Joseph Charter School cafeteria.&nbsp\;
LOCATION:Joseph Charter School Cafeteria\, Joseph
UID:e.1631.3705
SEQUENCE:3
DTSTAMP:20260419T180301Z
URL:http://wallowacountychamber.sampleorg.com/events/details/joseph-ffa-alumni-drive-by-dinner-04-16-2013-3705
END:VEVENT

END:VCALENDAR
