BEGIN:VCALENDAR
VERSION:2.0
PRODID:-//ChamberMaster//Event Calendar 2.0//EN
METHOD:PUBLISH
X-PUBLISHED-TTL:P3D
REFRESH-INTERVAL:P3D
CALSCALE:GREGORIAN
BEGIN:VEVENT
DTSTART:20130601T010000Z
DTEND:20130601T030000Z
X-MICROSOFT-CDO-ALLDAYEVENT:FALSE
SUMMARY:Joseph High School Commencement
DESCRIPTION:The Joseph High School Commencement will be held at the Joseph High School Gym.
X-ALT-DESC;FMTTYPE=text/html:The Joseph High School Commencement will be held at the Joseph High School Gym.
LOCATION:Jospeh High School Gym\, Joseph
UID:e.1631.4198
SEQUENCE:3
DTSTAMP:20260419T163624Z
URL:http://wallowacountychamber.sampleorg.com/events/details/joseph-high-school-commencement-05-31-2013-4198
END:VEVENT

END:VCALENDAR
