BEGIN:VCALENDAR
VERSION:2.0
PRODID:-//ChamberMaster//Event Calendar 2.0//EN
METHOD:PUBLISH
X-PUBLISHED-TTL:P3D
REFRESH-INTERVAL:P3D
CALSCALE:GREGORIAN
BEGIN:VEVENT
DTSTART:20130726T020000Z
DTEND:20130726T050000Z
X-MICROSOFT-CDO-ALLDAYEVENT:FALSE
SUMMARY:Joy Patterson and Matt Bell at Calderas
DESCRIPTION:Matt Bell and Joy Peterson will be playing at Calderas this evening\, in the backyard.  Come and enjoy the backyard for good music\, great food\, wine and beer and fun shopping (everything in the store is 10% off).
X-ALT-DESC;FMTTYPE=text/html:<span style="font-size:14px\;"><span style="font-family: comic sans ms\;">Matt Bell and Joy Peterson will be playing at Calderas this evening\, in the backyard.&nbsp\; Come and enjoy the backyard for good music\, great food\, wine and beer and fun shopping (everything in the store is 10% off).</span></span>
LOCATION:300 N. Lake St.\, Joseph
UID:e.1631.4405
SEQUENCE:3
DTSTAMP:20260419T134850Z
URL:http://wallowacountychamber.sampleorg.com/events/details/joy-patterson-and-matt-bell-at-calderas-07-25-2013-4405
END:VEVENT

END:VCALENDAR
