BEGIN:VCALENDAR
VERSION:2.0
PRODID:-//ChamberMaster//Event Calendar 2.0//EN
METHOD:PUBLISH
X-PUBLISHED-TTL:P3D
REFRESH-INTERVAL:P3D
CALSCALE:GREGORIAN
BEGIN:VEVENT
DTSTART:20130529T192500Z
DTEND:20130529T220000Z
X-MICROSOFT-CDO-ALLDAYEVENT:FALSE
SUMMARY:Living Well with Chronic Conditions
DESCRIPTION:Preregister at Community Connection\, 541-426-3840
X-ALT-DESC;FMTTYPE=text/html:Preregister at Community Connection\, 541-426-3840
LOCATION:Community Connection Conference room\, 702 NW 1st St.\, Enterprise
UID:e.1631.4163
SEQUENCE:3
DTSTAMP:20260419T164005Z
URL:http://wallowacountychamber.sampleorg.com/events/details/living-well-with-chronic-conditions-05-29-2013-4163
END:VEVENT

END:VCALENDAR
