BEGIN:VCALENDAR
VERSION:2.0
PRODID:-//ChamberMaster//Event Calendar 2.0//EN
METHOD:PUBLISH
X-PUBLISHED-TTL:P3D
REFRESH-INTERVAL:P3D
CALSCALE:GREGORIAN
BEGIN:VEVENT
DTSTART:20130615T170000Z
DTEND:20130615T210000Z
X-MICROSOFT-CDO-ALLDAYEVENT:FALSE
SUMMARY:Lostine All School Reunion
DESCRIPTION:The Lostine All School Reunion will be held at the Lostine/Providence School gym.  The program will begin at 10:00am with a potluck dinner at 12:00pm ( no alcohol please).
X-ALT-DESC;FMTTYPE=text/html:The Lostine All School Reunion will be held at the Lostine/Providence School gym.&nbsp\; The program will begin at 10:00am with a potluck dinner at 12:00pm ( no alcohol please).
LOCATION:Providence Academy gym
UID:e.1631.4200
SEQUENCE:3
DTSTAMP:20260419T202158Z
URL:http://wallowacountychamber.sampleorg.com/events/details/lostine-all-school-reunion-06-15-2013-4200
END:VEVENT

END:VCALENDAR
