BEGIN:VCALENDAR
VERSION:2.0
PRODID:-//ChamberMaster//Event Calendar 2.0//EN
METHOD:PUBLISH
X-PUBLISHED-TTL:P3D
REFRESH-INTERVAL:P3D
CALSCALE:GREGORIAN
BEGIN:VEVENT
DTSTART;VALUE=DATE:20130706
DTEND;VALUE=DATE:20130707
TRANSP:TRANSPARENT
X-MICROSOFT-CDO-ALLDAYEVENT:TRUE
SUMMARY:Lostine River Run
DESCRIPTION:Runs: 10K\, 5K and 1 mile. Walks: 5K and 1 mile. See website for registration forms. Come to beautiful Wallowa County for a one of the oldest running events in Eastern Oregon. Now in it's 29th year\, you will enjoy a course that is breathtaking in its scenic beauty. You can choose to run either a 5K or 10K that is mostly downhill as it follows the Lostine River into the small town of Lostine\, or a flat 1 mile out-and-back. The main sponsor of the Lostine River Run is the Rotary Club of Wallowa County. Rotary proceeds benefit the Memorial Scholarship Funds.  Lostine\, along the Hells Canyon Scenic Byway.
X-ALT-DESC;FMTTYPE=text/html:Runs: 10K\, 5K and 1 mile. Walks: 5K and 1 mile. See website for registration forms. Come to beautiful Wallowa County for a one of the oldest running events in Eastern Oregon. Now in it's 29th year\, you will enjoy a course that is breathtaking in its scenic beauty. You can choose to run either a 5K or 10K that is mostly downhill as it follows the Lostine River into the small town of Lostine\, or a flat 1 mile out-and-back. The main sponsor of the Lostine River Run is the Rotary Club of Wallowa County. Rotary proceeds benefit the Memorial Scholarship Funds.&nbsp\; Lostine\, along the Hells Canyon Scenic Byway.
LOCATION:
UID:e.1631.61
SEQUENCE:3
DTSTAMP:20260419T133940Z
URL:http://wallowacountychamber.sampleorg.com/events/details/lostine-river-run-07-06-2013-61
END:VEVENT

END:VCALENDAR
