BEGIN:VCALENDAR
VERSION:2.0
PRODID:-//ChamberMaster//Event Calendar 2.0//EN
METHOD:PUBLISH
X-PUBLISHED-TTL:P3D
REFRESH-INTERVAL:P3D
CALSCALE:GREGORIAN
BEGIN:VEVENT
DTSTART:20130316T160000Z
DTEND:20130316T200000Z
X-MICROSOFT-CDO-ALLDAYEVENT:FALSE
SUMMARY:Making Paper Beads
DESCRIPTION:A class on making paper beads will be offered by Allison Cornett\, who discovered the art when visiting Uganda last year. Class participants will learn how to make one of a kind paper beads and will take home a handcrafted bracelet and matching earrings. The cost is $50\, which includes materials.
X-ALT-DESC;FMTTYPE=text/html:<div style="color: gray">\n	<span style="font-size: 11pt"><span style="color: #080000"><span style="font-family: calibri\, sans-serif">A class on making paper beads will be offered&nbsp\;by Allison Cornett\, who discovered the art when visiting Uganda last year. Class participants will learn how to make one of a kind paper beads and will take home a handcrafted bracelet and matching earrings. The cost is $50\, which includes materials.&nbsp\;&nbsp\;</span></span></span><br />\n	&nbsp\;</div>\n
LOCATION:Josephy Center for Arts & Culture\, 403 N. Main St.\, Joseph
UID:e.1631.953
SEQUENCE:3
DTSTAMP:20260419T192444Z
URL:http://wallowacountychamber.sampleorg.com/events/details/making-paper-beads-03-16-2013-953
END:VEVENT

END:VCALENDAR
