BEGIN:VCALENDAR
VERSION:2.0
PRODID:-//ChamberMaster//Event Calendar 2.0//EN
METHOD:PUBLISH
X-PUBLISHED-TTL:P3D
REFRESH-INTERVAL:P3D
CALSCALE:GREGORIAN
BEGIN:VEVENT
DTSTART;VALUE=DATE:20130629
DTEND;VALUE=DATE:20130701
TRANSP:TRANSPARENT
X-MICROSOFT-CDO-ALLDAYEVENT:TRUE
SUMMARY:Maxville Gathering
DESCRIPTION:The Maxville Annual Gathering is a full-day family-friendly event that celebrates the logging history of Wallowa County. This year it will be a two day event.  On Saturday there will be:\n\n	\n		Dr. Olen Cole  - CCC Oral History Presentation  \n	\n		Rick McClure - CCC camps in the Pacific Northwest\n	\n		USFS Key hand-off ceremony\n	\n		Live Music\n	\n		Kirk Skovlin pig roast\n	\n		Juanita and Larry Waters - Mule Tours\n	\n		Historical logging demos\n	\n		Local vendor booths\n	\n		Kids activities\n	\n		Parking provided by the Wallow School District\n\nOn Sunday\, June 20: Josephy Center of Arts and Culture\, 403 N. Main St.\, Joseph\n\n	\n		Guided tour of Maxville!  bus tour leaving Joseph at 11am\, Return time around 3:30-4Pm\n	\n		Tour participants will be treated to appetizers and Lathrop Country Wine samplings
X-ALT-DESC;FMTTYPE=text/html:The Maxville Annual Gathering is a full-day family-friendly event that celebrates the logging history of Wallowa County. This year it will be a two day event.&nbsp\; On Saturday there will be:\n<ul>\n	<li>\n		Dr. Olen Cole&nbsp\; - CCC Oral History Presentation&nbsp\;<span _fck_bookmark="1" style="display: none\;"> </span></li>\n	<li>\n		Rick McClure - CCC camps in the Pacific Northwest</li>\n	<li>\n		USFS Key hand-off ceremony</li>\n	<li>\n		Live Music</li>\n	<li>\n		Kirk Skovlin pig roast</li>\n	<li>\n		Juanita and Larry Waters - Mule Tours</li>\n	<li>\n		Historical logging demos</li>\n	<li>\n		Local vendor booths</li>\n	<li>\n		Kids activities</li>\n	<li>\n		Parking provided by the Wallow School District</li>\n</ul>\nOn Sunday\, June 20: Josephy Center of Arts and Culture\, 403 N. Main St.\, Joseph\n<ul>\n	<li>\n		Guided tour of Maxville!&nbsp\; bus tour leaving Joseph at 11am\, Return time around 3:30-4Pm</li>\n	<li>\n		Tour participants will be treated to appetizers and Lathrop Country Wine samplings</li>\n</ul>\n
LOCATION:On Saturday Wallowa City Park in Wallowa. On Sunday guided tour to Maxville town site\, on Promise Road\, 16 miles north of Wallowa\, leaving from the Jospehy Center in Joseph
UID:e.1631.84
SEQUENCE:3
DTSTAMP:20260419T202037Z
URL:http://wallowacountychamber.sampleorg.com/events/details/maxville-gathering-06-29-2013-84
END:VEVENT

END:VCALENDAR
