BEGIN:VCALENDAR
VERSION:2.0
PRODID:-//ChamberMaster//Event Calendar 2.0//EN
METHOD:PUBLISH
X-PUBLISHED-TTL:P3D
REFRESH-INTERVAL:P3D
CALSCALE:GREGORIAN
BEGIN:VEVENT
DTSTART:20130331T200000Z
DTEND:20130331T230000Z
X-MICROSOFT-CDO-ALLDAYEVENT:FALSE
SUMMARY:Maxville Heritage Open House and Pie Social/Auction
DESCRIPTION:Maxville Heritage Open House and  Pie Social/Auction \n\n	Video short of  Maxville musical "On To Higher Ground" recorded live at the Aladdin Theater in Portland.\n\n	Updates on Maxville Center happenings. \n\n	Easter afternoon entertainment and refreshment @\n\n	 Wallowa Senior Center & Maxville Heritage Center \n\n	 \n\n	Baked goods donations welcome! \n\n	 \n\n	Call: 541-426-3545   |   Email: events@maxvilleheritage.org
X-ALT-DESC;FMTTYPE=text/html:<div style="color: gray\;">\n	<strong><span style="font-size: 13.5pt\;"><span style="font-family: times new roman\;">Maxville Heritage Open House and&nbsp\;&nbsp\;Pie Social/Auction&nbsp\;</span></span></strong><br />\n	<span style="font-size: 13.5pt\;"><span style="font-family: times new roman\;">Video short of&nbsp\;&nbsp\;Maxville musical &quot\;On To Higher Ground&quot\; recorded live at the&nbsp\;Aladdin&nbsp\;Theater in Portland.</span></span><br />\n	<span style="font-size: 13.5pt\;"><span style="font-family: times new roman\;">Updates on Maxville Center happenings.&nbsp\;</span></span><br />\n	<span style="font-size: 13.5pt\;"><span style="font-family: times new roman\;">Easter afternoon entertainment and refreshment @</span></span><br />\n	&nbsp\;<span style="font-size: 13.5pt\;"><span style="font-family: times new roman\;">Wallowa Senior Center &amp\; Maxville Heritage Center&nbsp\;</span></span><br />\n	&nbsp\;<br />\n	<strong><span style="font-size: 13.5pt\;"><span style="font-family: times new roman\;">Baked goods donations welcome!&nbsp\;</span></span></strong><br />\n	&nbsp\;<br />\n	<strong><span style="font-size: 13.5pt\;"><span style="font-family: times new roman\;">Call: 541-426-3545 &nbsp\; | &nbsp\;&nbsp\;Email: </span></span><a href="mailto:events@maxvilleheritage.org"><span style="font-family: times new roman\;"><span style="color: rgb(0\, 0\, 255)\;">events@maxvilleheritage.org</span></span></a></strong><br />\n	&nbsp\;&nbsp\;&nbsp\;<br />\n	&nbsp\;</div>\n
LOCATION:Wallowa Senior Center & Maxville Heritage Center
UID:e.1631.1834
SEQUENCE:3
DTSTAMP:20260419T210543Z
URL:http://wallowacountychamber.sampleorg.com/events/details/maxville-heritage-open-house-and-pie-social-auction-03-31-2013-1834
END:VEVENT

END:VCALENDAR
