BEGIN:VCALENDAR
VERSION:2.0
PRODID:-//ChamberMaster//Event Calendar 2.0//EN
METHOD:PUBLISH
X-PUBLISHED-TTL:P3D
REFRESH-INTERVAL:P3D
CALSCALE:GREGORIAN
BEGIN:VEVENT
DTSTART:20130612T010000Z
DTEND:20130612T030000Z
X-MICROSOFT-CDO-ALLDAYEVENT:FALSE
SUMMARY:Montana Skies at Calderas
DESCRIPTION:Calderas invites you to come hear  Montana Skies singing in the backyard at 6 pm  Monday\, June 15th come by Thurs  thru Monday 1 to 9 pm  and enjoy our new summer menu\, beer\, wine\,clothing  and gifts.
X-ALT-DESC;FMTTYPE=text/html:<span style="font-size:14px\;"><span style="font-family: comic sans ms\;"><em>Calderas invites you to come&nbsp\;hear&nbsp\; Montana Skies singing in the backyard at 6 pm&nbsp\; Monday\, June 15th come&nbsp\;by Thurs&nbsp\; thru Monday 1 to 9 pm &nbsp\;and enjoy our new summer menu\, beer\, wine\,clothing &nbsp\;and gifts.</em></span></span>
LOCATION:300 N. Lake St.\, Joseph
UID:e.1631.4330
SEQUENCE:3
DTSTAMP:20260419T202158Z
URL:http://wallowacountychamber.sampleorg.com/events/details/montana-skies-at-calderas-06-11-2013-4330
END:VEVENT

END:VCALENDAR
