BEGIN:VCALENDAR
VERSION:2.0
PRODID:-//ChamberMaster//Event Calendar 2.0//EN
METHOD:PUBLISH
X-PUBLISHED-TTL:P3D
REFRESH-INTERVAL:P3D
CALSCALE:GREGORIAN
BEGIN:VEVENT
DTSTART:20130628T010000Z
DTEND:20130628T040000Z
X-MICROSOFT-CDO-ALLDAYEVENT:FALSE
SUMMARY:Montana Skies Playing at Calderas
DESCRIPTION:Join us in the backyard June 27th 6-9 pm.  There will be a $5 cover charge.  Great food\, beer\, wine\, clothing\, antiques and glassware.
X-ALT-DESC;FMTTYPE=text/html:Join us in the backyard June 27th 6-9 pm.&nbsp\; There will be a $5 cover charge.&nbsp\; Great food\, beer\, wine\, clothing\, antiques and glassware.
LOCATION:Calderas 300 North Lake Street Joseph Oregon
UID:e.1631.4336
SEQUENCE:3
DTSTAMP:20260419T202212Z
URL:http://wallowacountychamber.sampleorg.com/events/details/montana-skies-playing-at-calderas-06-27-2013-4336
END:VEVENT

END:VCALENDAR
